BEGIN:VCALENDAR
VERSION:2.0
PRODID:-//Waldhauszeit - ECPv6.10.2//NONSGML v1.0//EN
CALSCALE:GREGORIAN
METHOD:PUBLISH
X-WR-CALNAME:Waldhauszeit
X-ORIGINAL-URL:https://www.waldhauszeit.de
X-WR-CALDESC:Veranstaltungen für Waldhauszeit
REFRESH-INTERVAL;VALUE=DURATION:PT1H
X-Robots-Tag:noindex
X-PUBLISHED-TTL:PT1H
BEGIN:VTIMEZONE
TZID:Europe/Berlin
BEGIN:DAYLIGHT
TZOFFSETFROM:+0100
TZOFFSETTO:+0200
TZNAME:CEST
DTSTART:20250330T010000
END:DAYLIGHT
BEGIN:STANDARD
TZOFFSETFROM:+0200
TZOFFSETTO:+0100
TZNAME:CET
DTSTART:20251026T010000
END:STANDARD
END:VTIMEZONE
BEGIN:VEVENT
DTSTART;TZID=Europe/Berlin:20251023T000000
DTEND;TZID=Europe/Berlin:20251026T000000
DTSTAMP:20260422T124347
CREATED:20230207T100304Z
LAST-MODIFIED:20250106T190059Z
UID:7230-1761177600-1761436800@www.waldhauszeit.de
SUMMARY:Laubacher Lichterfest
DESCRIPTION:52. Laubacher Lichterfest – Schlosspark Laubach\nEin „Fest der Sinne\, des Spektakels und des Feuers“\, verspricht die Vereinsgemeinschaft Laubach im romantischen Schlosspark der ehemaligen Residenzstadt. \nDabei haben sich die Veranstalter\, mehr als 30 Laubacher Vereine\, wieder eine Menge einfallen lassen\, um den Besucherinnen und Besuchern etwas Neues zu bieten. \nSo wird der Schlosspark in mühevoller Kleinarbeit mit 70.000 Hindenburglichtern kunstvoll illuminiert. Der krönenden Abschluss bildet ein großes Feuerwerk. \nInfos unter: www.laubach-online.de/events/50-laubach-lichterfest
URL:https://www.waldhauszeit.de/event/laubacher-lichterfest-2023/
LOCATION:Schlosspark Laubach\, Am Schlosspark\, Laubach\, 35321
END:VEVENT
BEGIN:VEVENT
DTSTART;TZID=Europe/Berlin:20251011T000000
DTEND;TZID=Europe/Berlin:20251019T000000
DTSTAMP:20260422T124347
CREATED:20250106T190453Z
LAST-MODIFIED:20250106T190453Z
UID:7414-1760140800-1760832000@www.waldhauszeit.de
SUMMARY:545. Grünberger Gallusmarkt
DESCRIPTION:Der Gallusmarkt in Grünberg ist einer der ältesten Jahrmärkte in Hessen.
URL:https://www.waldhauszeit.de/event/545-gruenberger-gallusmarkt/
END:VEVENT
BEGIN:VEVENT
DTSTART;VALUE=DATE:20250822
DTEND;VALUE=DATE:20250825
DTSTAMP:20260422T124347
CREATED:20230207T101316Z
LAST-MODIFIED:20250106T185842Z
UID:7234-1755820800-1756079999@www.waldhauszeit.de
SUMMARY:30. Hessisches Bluesfestival "Blues\, Schmus\, Apfelmus"
DESCRIPTION:Blues\, Schmus & Apfelmus\n30. Hessisches Bluesfestival mit Hessens schönstem Apfelfest – 22. bis 24. August 2023 – im Laubacher Schlosspark \nInfos unter: www.bluesschmusapfelmus.de
URL:https://www.waldhauszeit.de/event/28-hessisches-bluesfestival/
LOCATION:Schlosspark Laubach\, Am Schlosspark\, Laubach\, 35321
END:VEVENT
BEGIN:VEVENT
DTSTART;TZID=Europe/Berlin:20250206T000000
DTEND;TZID=Europe/Berlin:20250309T000000
DTSTAMP:20260422T124347
CREATED:20250106T191221Z
LAST-MODIFIED:20250106T191221Z
UID:7416-1738800000-1741478400@www.waldhauszeit.de
SUMMARY:Der Vulkan kocht vegetarisch
DESCRIPTION:Kreative Gastronomen der Vulkanregion Vogelsberg wollen ihre Gäste mit pfiffigen\, durchaus klassischen\, aber auch neu kreierten vegetarischen Gerichten aus regionalen Zutaten begeistern. Dass nicht nur das Vogelsberger Fleisch und der regionale Fisch besonders lecker sind\, sondern sich eben auch unfassbar viele Variationsmöglichkeiten hinter den anderen regionalen Lebensmitteln verstecken\, soll das Thema der neuen kulinarischen Genusswochen „Der Vulkan kocht!®: vegetarisch“ sein. \nIm Zeitraum vom 6. Februar bis zum 9. März 2025 stehen auf den Speisekarten der teilnehmenden Gastronomiebetriebe – zusätzlich zum bestehenden Angebot – eigens komponierte\, vegetarische\, teilweise auch vegane Gerichte\, die mit dem „Der Vulkan kocht!®“-Logo gekennzeichnet sind. Dahinter verstecken sich häufig aufwendige Kompositionen\, die den Küchenteams durchaus mehr Arbeit bereiten können als ein klassisches Steak. Vegetarische Küche bedeutet eben nicht\, das Fleisch einfach wegzulassen\, sondern beinhaltet vollwertige Gerichte nur eben ohne den tierischen Anteil.
URL:https://www.waldhauszeit.de/event/der-vulkan-kocht-vegetarisch/
END:VEVENT
END:VCALENDAR